BEGIN:VCALENDAR
VERSION:2.0
PRODID:-//Tinley Park-Park District - ECPv6.15.20//NONSGML v1.0//EN
CALSCALE:GREGORIAN
METHOD:PUBLISH
X-ORIGINAL-URL:https://tinleyparkdistrict.org
X-WR-CALDESC:Events for Tinley Park-Park District
REFRESH-INTERVAL;VALUE=DURATION:PT1H
X-Robots-Tag:noindex
X-PUBLISHED-TTL:PT1H
BEGIN:VTIMEZONE
TZID:UTC
BEGIN:STANDARD
TZOFFSETFROM:+0000
TZOFFSETTO:+0000
TZNAME:UTC
DTSTART:20230101T000000
END:STANDARD
END:VTIMEZONE
BEGIN:VEVENT
DTSTART;TZID=UTC:20240406T090000
DTEND;TZID=UTC:20240406T140000
DTSTAMP:20260419T103558
CREATED:20240210T034638Z
LAST-MODIFIED:20240320T195014Z
UID:10000040-1712394000-1712412000@tinleyparkdistrict.org
SUMMARY:Spring Arts & Crafts Fair
DESCRIPTION:April 6\, 2024 \n9:00 am – 2:00 pm \n\n\n\nWelcome spring with a shopping spree at our annual Spring Arts & Crafts Fair! You’ll find art\, photography\, home decor\, jewelry\, clothing and crafts for gifts or just for you! \nEXHIBITORS: Reserve your space today. Registration for the craft fair has changed. Once registration opens\, please purchase your craft fair spaces through the online ticketing portal. The show is listed under tickets. Table and room assignments emailed 4/3/24. NOTE: commercial items are not eligible for this show. \nLocation: Recreation Center \nAge: Adult \nDATE        DAY/TIME         FEE\nApr 6         Sat 9a-2p         $30 space w/6’ table                                                                                                                                                    $20 space\, BYO table
URL:https://tinleyparkdistrict.org/event/spring-arts-crafts-fair/
LOCATION:Tony Bettenhausen Recreation Center\, 8125 W 171st St\, Tinley Park\, 60477\, United States
CATEGORIES:Special Event
END:VEVENT
END:VCALENDAR