BEGIN:VCALENDAR
VERSION:2.0
PRODID:-//Tinley Park-Park District - ECPv6.15.20//NONSGML v1.0//EN
CALSCALE:GREGORIAN
METHOD:PUBLISH
X-ORIGINAL-URL:https://tinleyparkdistrict.org
X-WR-CALDESC:Events for Tinley Park-Park District
REFRESH-INTERVAL;VALUE=DURATION:PT1H
X-Robots-Tag:noindex
X-PUBLISHED-TTL:PT1H
BEGIN:VTIMEZONE
TZID:UTC
BEGIN:STANDARD
TZOFFSETFROM:+0000
TZOFFSETTO:+0000
TZNAME:UTC
DTSTART:20230101T000000
END:STANDARD
END:VTIMEZONE
BEGIN:VEVENT
DTSTART;TZID=UTC:20240409T100000
DTEND;TZID=UTC:20240409T140000
DTSTAMP:20260419T102648
CREATED:20240306T010432Z
LAST-MODIFIED:20240306T010432Z
UID:10000051-1712656800-1712671200@tinleyparkdistrict.org
SUMMARY:Checkers Day
DESCRIPTION:
URL:https://tinleyparkdistrict.org/event/checkers-day-2/
LOCATION:Tony Bettenhausen Recreation Center\, 8125 W 171st St\, Tinley Park\, 60477\, United States
CATEGORIES:STARS Senior Center
END:VEVENT
END:VCALENDAR