BEGIN:VCALENDAR
VERSION:2.0
PRODID:-//Tinley Park-Park District - ECPv6.15.20//NONSGML v1.0//EN
CALSCALE:GREGORIAN
METHOD:PUBLISH
X-WR-CALNAME:Tinley Park-Park District
X-ORIGINAL-URL:https://tinleyparkdistrict.org
X-WR-CALDESC:Events for Tinley Park-Park District
REFRESH-INTERVAL;VALUE=DURATION:PT1H
X-Robots-Tag:noindex
X-PUBLISHED-TTL:PT1H
BEGIN:VTIMEZONE
TZID:UTC
BEGIN:STANDARD
TZOFFSETFROM:+0000
TZOFFSETTO:+0000
TZNAME:UTC
DTSTART:20230101T000000
END:STANDARD
END:VTIMEZONE
BEGIN:VTIMEZONE
TZID:America/Chicago
BEGIN:DAYLIGHT
TZOFFSETFROM:-0600
TZOFFSETTO:-0500
TZNAME:CDT
DTSTART:20230312T080000
END:DAYLIGHT
BEGIN:STANDARD
TZOFFSETFROM:-0500
TZOFFSETTO:-0600
TZNAME:CST
DTSTART:20231105T070000
END:STANDARD
BEGIN:DAYLIGHT
TZOFFSETFROM:-0600
TZOFFSETTO:-0500
TZNAME:CDT
DTSTART:20240310T080000
END:DAYLIGHT
BEGIN:STANDARD
TZOFFSETFROM:-0500
TZOFFSETTO:-0600
TZNAME:CST
DTSTART:20241103T070000
END:STANDARD
BEGIN:DAYLIGHT
TZOFFSETFROM:-0600
TZOFFSETTO:-0500
TZNAME:CDT
DTSTART:20250309T080000
END:DAYLIGHT
BEGIN:STANDARD
TZOFFSETFROM:-0500
TZOFFSETTO:-0600
TZNAME:CST
DTSTART:20251102T070000
END:STANDARD
END:VTIMEZONE
BEGIN:VEVENT
DTSTART;VALUE=DATE:20240816
DTEND;VALUE=DATE:20240906
DTSTAMP:20260422T203541
CREATED:20240411T014919Z
LAST-MODIFIED:20240411T014919Z
UID:10000099-1723766400-1725580799@tinleyparkdistrict.org
SUMMARY:Scarecrow September Kids Coloring Contest
DESCRIPTION:Enter the VVAC “Scarecrow September” kids coloring contest! Coloring pages can be picked up at the VVAC and Tony Bettenhausen Recreation Center on August 16. Entries are due by Thursday\, September 5. Winners will be announced September 9 and are notified by phone. The contest is open to children ages 4-13 years old. The best picture in each age group receives a goodie bag and their entries displayed at the VVAC from September 10 – 28. Entries must be submitted/returned to the VVAC or Tony Bettenhausen Recreation Center. All entries must have participants name\, age and contact phone number printed on the picture. (All contact info will be removed when displayed.)
URL:https://tinleyparkdistrict.org/event/scarecrow-september-kids-coloring-contest/
LOCATION:IL
CATEGORIES:Special Event
END:VEVENT
BEGIN:VEVENT
DTSTART;TZID=America/Chicago:20240819T160000
DTEND;TZID=America/Chicago:20240819T190000
DTSTAMP:20260422T203541
CREATED:20240411T235242Z
LAST-MODIFIED:20240809T152712Z
UID:10000105-1724083200-1724094000@tinleyparkdistrict.org
SUMMARY:Putting with Purpose (South Suburban Special Recreation Association Event @ Tinley Junction)
DESCRIPTION:Putting with Purpose is the first mini golf outing fundraiser to support SSSRA participants with disabilities or special needs. Thank you to Tinley Park-Park District for hosting this event! Proceeds will go towards SSSRA’s Scholarship Program. This program helps residents requiring financial assistance by reducing fees for programs and special events.
URL:https://tinleyparkdistrict.org/event/putting-with-purpose-south-suburban-special-recreation-association-event-tinley-junction/
LOCATION:IL
CATEGORIES:Tinley Junction Mini Golf
END:VEVENT
END:VCALENDAR