BEGIN:VCALENDAR
VERSION:2.0
PRODID:-//Tinley Park-Park District - ECPv6.15.20//NONSGML v1.0//EN
CALSCALE:GREGORIAN
METHOD:PUBLISH
X-ORIGINAL-URL:https://tinleyparkdistrict.org
X-WR-CALDESC:Events for Tinley Park-Park District
REFRESH-INTERVAL;VALUE=DURATION:PT1H
X-Robots-Tag:noindex
X-PUBLISHED-TTL:PT1H
BEGIN:VTIMEZONE
TZID:America/Chicago
BEGIN:DAYLIGHT
TZOFFSETFROM:-0600
TZOFFSETTO:-0500
TZNAME:CDT
DTSTART:20230312T080000
END:DAYLIGHT
BEGIN:STANDARD
TZOFFSETFROM:-0500
TZOFFSETTO:-0600
TZNAME:CST
DTSTART:20231105T070000
END:STANDARD
BEGIN:DAYLIGHT
TZOFFSETFROM:-0600
TZOFFSETTO:-0500
TZNAME:CDT
DTSTART:20240310T080000
END:DAYLIGHT
BEGIN:STANDARD
TZOFFSETFROM:-0500
TZOFFSETTO:-0600
TZNAME:CST
DTSTART:20241103T070000
END:STANDARD
BEGIN:DAYLIGHT
TZOFFSETFROM:-0600
TZOFFSETTO:-0500
TZNAME:CDT
DTSTART:20250309T080000
END:DAYLIGHT
BEGIN:STANDARD
TZOFFSETFROM:-0500
TZOFFSETTO:-0600
TZNAME:CST
DTSTART:20251102T070000
END:STANDARD
END:VTIMEZONE
BEGIN:VEVENT
DTSTART;VALUE=DATE:20241101
DTEND;VALUE=DATE:20241120
DTSTAMP:20260420T043205
CREATED:20240815T140955Z
LAST-MODIFIED:20240820T191131Z
UID:10000243-1730419200-1732060799@tinleyparkdistrict.org
SUMMARY:Santa's Mailbox
DESCRIPTION:Due to the large volume of Christmas mail last year\, the Tinley Park-Park District is helping deliver mail to the North Pole. Santa’s mailbox is available November 1 through 19 in the lobby of the Bettenhausen Recreation Center. Don’t forget to include child’s full name and address for Santa so he can reply to their letter! Children ages 3-12 only. Santa is super busy packing his sleigh for the big night\, only answer letters received on or before Nov 19 can be answered.
URL:https://tinleyparkdistrict.org/event/santas-mailbox/
LOCATION:Tony Bettenhausen Recreation Center\, 8125 W 171st St\, Tinley Park\, 60477\, United States
CATEGORIES:Special Event
ATTACH;FMTTYPE=image/jpeg:https://tinleyparkdistrict.org/wp-content/uploads/2024/08/Santas-Mailbox-Marketing-Pieces_Event-Photo-REACH-1920X1080.jpg
END:VEVENT
BEGIN:VEVENT
DTSTART;TZID=America/Chicago:20241103T080000
DTEND;TZID=America/Chicago:20241103T100000
DTSTAMP:20260420T043205
CREATED:20240808T200342Z
LAST-MODIFIED:20240820T191427Z
UID:10000238-1730620800-1730628000@tinleyparkdistrict.org
SUMMARY:Turkey Trot 5k
DESCRIPTION:Pre-Registration closes Oct 31 at 3 pm \nPacket pickup is Nov 2 from 8 am to 2 pm at the Recreation Center \nRegistration and pre-registration pick up will open again at 7 am on race day at Vogt Woods \nFees: \n$30 with shirt \n$22 without shirt \n$45 Race Day \n 
URL:https://tinleyparkdistrict.org/event/turkey-trot-5k/
LOCATION:Vogt Woods\, 6641 W 171st St\, Tinley Park\, IL\, 60477\, United States
CATEGORIES:Special Event
ATTACH;FMTTYPE=image/jpeg:https://tinleyparkdistrict.org/wp-content/uploads/2024/08/Turkey-Trot-Training-Marketing-Flyers_REACH-FB-Event.jpg
END:VEVENT
BEGIN:VEVENT
DTSTART;TZID=America/Chicago:20241103T140000
DTEND;TZID=America/Chicago:20241103T163000
DTSTAMP:20260420T043205
CREATED:20241003T150757Z
LAST-MODIFIED:20241016T154013Z
UID:10000352-1730642400-1730651400@tinleyparkdistrict.org
SUMMARY:Community Theater Presents: A Murder is Announced
DESCRIPTION:An announcement in the local paper states the time and place of an imminent murder. When an unknown visitor to Miss Blacklock’s Victorian home dies under the prescribed circumstances\, Miss Marple turns up to solve the case. \nTickets on sale September 1st! Admission is $15.
URL:https://tinleyparkdistrict.org/event/community-theater-presents-a-murder-is-announced-2/2024-11-03/
LOCATION:IL
CATEGORIES:Performing Arts Center
ATTACH;FMTTYPE=image/jpeg:https://tinleyparkdistrict.org/wp-content/uploads/2024/10/A-Murder-is-Announced-Reach-1920x1080-1.jpg
END:VEVENT
END:VCALENDAR