BEGIN:VCALENDAR
VERSION:2.0
PRODID:-//Tinley Park-Park District - ECPv6.15.20//NONSGML v1.0//EN
CALSCALE:GREGORIAN
METHOD:PUBLISH
X-WR-CALNAME:Tinley Park-Park District
X-ORIGINAL-URL:https://tinleyparkdistrict.org
X-WR-CALDESC:Events for Tinley Park-Park District
REFRESH-INTERVAL;VALUE=DURATION:PT1H
X-Robots-Tag:noindex
X-PUBLISHED-TTL:PT1H
BEGIN:VTIMEZONE
TZID:America/Chicago
BEGIN:DAYLIGHT
TZOFFSETFROM:-0600
TZOFFSETTO:-0500
TZNAME:CDT
DTSTART:20240310T080000
END:DAYLIGHT
BEGIN:STANDARD
TZOFFSETFROM:-0500
TZOFFSETTO:-0600
TZNAME:CST
DTSTART:20241103T070000
END:STANDARD
BEGIN:DAYLIGHT
TZOFFSETFROM:-0600
TZOFFSETTO:-0500
TZNAME:CDT
DTSTART:20250309T080000
END:DAYLIGHT
BEGIN:STANDARD
TZOFFSETFROM:-0500
TZOFFSETTO:-0600
TZNAME:CST
DTSTART:20251102T070000
END:STANDARD
BEGIN:DAYLIGHT
TZOFFSETFROM:-0600
TZOFFSETTO:-0500
TZNAME:CDT
DTSTART:20260308T080000
END:DAYLIGHT
BEGIN:STANDARD
TZOFFSETFROM:-0500
TZOFFSETTO:-0600
TZNAME:CST
DTSTART:20261101T070000
END:STANDARD
END:VTIMEZONE
BEGIN:VEVENT
DTSTART;TZID=America/Chicago:20250201T000000
DTEND;TZID=America/Chicago:20250531T235900
DTSTAMP:20260421T194933
CREATED:20241105T184906Z
LAST-MODIFIED:20250411T154843Z
UID:10000364-1738368000-1748735940@tinleyparkdistrict.org
SUMMARY:Photo Contest
DESCRIPTION:ALL photos MUST  be taken at the  Tinley Park-Park District (parks\, activities\, special events\, or facilities).\nAll submissions must be emailed to Bailey Hecker at Bhecker@tinleyparkdistrict.org.\nEach submission must include a title\, location of photo\, name\, email and age of photographer.\nAll photos must be the contestant’s original work.\nThe Tinley Park-Park Districts serve the right to move a photo from one category to a more suitable category if needed.\nThere is a maximum of 10 photos person.\nAll photos submitted become the property of the Tinley Park-Park District.\n\nPhotos will be accepted until May 31st\, 2025.
URL:https://tinleyparkdistrict.org/event/photo-contest/
LOCATION:IL
CATEGORIES:Special Event
ATTACH;FMTTYPE=image/jpeg:https://tinleyparkdistrict.org/wp-content/uploads/2024/11/Photo-Contest-REACH.jpg
END:VEVENT
BEGIN:VEVENT
DTSTART;TZID=America/Chicago:20250405T090000
DTEND;TZID=America/Chicago:20250405T103000
DTSTAMP:20260421T194933
CREATED:20241127T212812Z
LAST-MODIFIED:20250226T214840Z
UID:10000378-1743843600-1743849000@tinleyparkdistrict.org
SUMMARY:Easter Egg Hunt
DESCRIPTION:The Easter Bunny invites you to join him for our Easter Egg Hunt! Be ready to visit with our special guest – the Easter Bunny! This event goes on rain or shine. Pre-registration required; Registrations are not be accepted the day of. Fee is per child. Only one adult allowed on the field with child(ren). \nFees: $1 R / $2 NR \nActivity 111009-A (Ages 3-4)\nTime: 9-9:30am \nActivity 111009-B (Ages 5-6)\nTime: 9:45-10:15am
URL:https://tinleyparkdistrict.org/event/easter-egg-hunt/
LOCATION:Freedom Park\, 7835 Timber Dr\, Tinley Park\, IL\, 60477\, United States
CATEGORIES:Special Event
END:VEVENT
BEGIN:VEVENT
DTSTART;TZID=America/Chicago:20250405T090000
DTEND;TZID=America/Chicago:20250405T140000
DTSTAMP:20260421T194933
CREATED:20241202T235505Z
LAST-MODIFIED:20250114T201111Z
UID:10000386-1743843600-1743861600@tinleyparkdistrict.org
SUMMARY:Spring Arts and Crafts Fair
DESCRIPTION:Shoppers – This fair highlights many of the talented crafters in the community. Exhibits are open to the public at no charge and feature all handmade items. \nVendors – We only allow vendors to showcase their handmade items. If you would like to be an exhibitor you can purchase spaces online or in person. Spaces are only for those selling handmade items\, we do not allow any vendor or resale items. Spaces for the fair are only available for purchase in the Tickets section of our online registration system or in person at the Bettenhausen Recreation Center. Space sizes are roughly 8×6 and crafters can rent up to two spaces. A limited number of tables are available for rent. Additional requirements are printed on receipt. Room and table assignments are emailed by April 9th. \nFee:\n$30 per space with 6″ table\n$20 per space\, bring your own table
URL:https://tinleyparkdistrict.org/event/spring-arts-and-crafts-fair/
LOCATION:Tony Bettenhausen Recreation Center\, 8125 W 171st St\, Tinley Park\, 60477\, United States
CATEGORIES:Special Event
ATTACH;FMTTYPE=image/jpeg:https://tinleyparkdistrict.org/wp-content/uploads/2024/12/Spring-Craft-Fair-REACH.jpg
END:VEVENT
END:VCALENDAR