BEGIN:VCALENDAR
VERSION:2.0
PRODID:-//Tinley Park-Park District - ECPv6.15.20//NONSGML v1.0//EN
CALSCALE:GREGORIAN
METHOD:PUBLISH
X-ORIGINAL-URL:https://tinleyparkdistrict.org
X-WR-CALDESC:Events for Tinley Park-Park District
REFRESH-INTERVAL;VALUE=DURATION:PT1H
X-Robots-Tag:noindex
X-PUBLISHED-TTL:PT1H
BEGIN:VTIMEZONE
TZID:America/Chicago
BEGIN:DAYLIGHT
TZOFFSETFROM:-0600
TZOFFSETTO:-0500
TZNAME:CDT
DTSTART:20240310T080000
END:DAYLIGHT
BEGIN:STANDARD
TZOFFSETFROM:-0500
TZOFFSETTO:-0600
TZNAME:CST
DTSTART:20241103T070000
END:STANDARD
BEGIN:DAYLIGHT
TZOFFSETFROM:-0600
TZOFFSETTO:-0500
TZNAME:CDT
DTSTART:20250309T080000
END:DAYLIGHT
BEGIN:STANDARD
TZOFFSETFROM:-0500
TZOFFSETTO:-0600
TZNAME:CST
DTSTART:20251102T070000
END:STANDARD
BEGIN:DAYLIGHT
TZOFFSETFROM:-0600
TZOFFSETTO:-0500
TZNAME:CDT
DTSTART:20260308T080000
END:DAYLIGHT
BEGIN:STANDARD
TZOFFSETFROM:-0500
TZOFFSETTO:-0600
TZNAME:CST
DTSTART:20261101T070000
END:STANDARD
END:VTIMEZONE
BEGIN:VEVENT
DTSTART;TZID=America/Chicago:20250201T000000
DTEND;TZID=America/Chicago:20250531T235900
DTSTAMP:20260421T211138
CREATED:20241105T184906Z
LAST-MODIFIED:20250411T154843Z
UID:10000364-1738368000-1748735940@tinleyparkdistrict.org
SUMMARY:Photo Contest
DESCRIPTION:ALL photos MUST  be taken at the  Tinley Park-Park District (parks\, activities\, special events\, or facilities).\nAll submissions must be emailed to Bailey Hecker at Bhecker@tinleyparkdistrict.org.\nEach submission must include a title\, location of photo\, name\, email and age of photographer.\nAll photos must be the contestant’s original work.\nThe Tinley Park-Park Districts serve the right to move a photo from one category to a more suitable category if needed.\nThere is a maximum of 10 photos person.\nAll photos submitted become the property of the Tinley Park-Park District.\n\nPhotos will be accepted until May 31st\, 2025.
URL:https://tinleyparkdistrict.org/event/photo-contest/
LOCATION:IL
CATEGORIES:Special Event
ATTACH;FMTTYPE=image/jpeg:https://tinleyparkdistrict.org/wp-content/uploads/2024/11/Photo-Contest-REACH.jpg
END:VEVENT
BEGIN:VEVENT
DTSTART;TZID=America/Chicago:20250503T100000
DTEND;TZID=America/Chicago:20250504T200000
DTSTAMP:20260421T211138
CREATED:20241203T012045Z
LAST-MODIFIED:20250411T153927Z
UID:10000388-1746266400-1746388800@tinleyparkdistrict.org
SUMMARY:Tinley Junction Opening Weekend
DESCRIPTION:Tinley Junction opens May 3rd! There will be opening weekend specials including double tokens and golf for $3.50 per round!
URL:https://tinleyparkdistrict.org/event/tinley-junction-opening-weekend/
LOCATION:IL
CATEGORIES:Tinley Junction Mini Golf
ATTACH;FMTTYPE=image/jpeg:https://tinleyparkdistrict.org/wp-content/uploads/2024/12/Junction-Opening-Day-REACH-1920X1080.jpg
END:VEVENT
BEGIN:VEVENT
DTSTART;TZID=America/Chicago:20250503T180000
DTEND;TZID=America/Chicago:20250503T200000
DTSTAMP:20260421T211138
CREATED:20250108T192832Z
LAST-MODIFIED:20250411T164918Z
UID:10000430-1746295200-1746302400@tinleyparkdistrict.org
SUMMARY:Children's Theater Presents: "The Wizard of Oz" - Lion Cast
DESCRIPTION:In this faithful and playfully short adaptation of the original novel\, Dorothy lands in Oz and must find her way home to Kansas. But first she must find the yellow brick road\, make it through the poppy field\, avoid the flying monkeys and defeat the Wicked Witch. No big deal. Luckily she has the Scarecrow\, Tin Man\, Cowardly Lion\, and Glinda the Good Witch on her side. \nDirected by Christina Halleran\nLocation: Tinley Park Performing Arts Center \nTickets are $10 and go on sale April 21\, 2025 from 12:00am-4:00pm until May 2nd.  Any tickets needed after 4:00pm on Friday\, May 2nd\, can be purchased beginning at 5:30pm at the PAC’s box office. \nLion Cast Performance show dates are: \nFriday\, May 2nd at 6pm \nSaturday\, May 3rd at 6pm \nSunday\, May 4th at 1pm
URL:https://tinleyparkdistrict.org/event/childrens-theater-presents-the-wizard-of-oz/2025-05-03/
LOCATION:Tinley Park Performing Arts\, 16801 S 80th Ave\, Tinley Park\, IL\, 60477\, United States
CATEGORIES:Performing Arts Center
ATTACH;FMTTYPE=image/jpeg:https://tinleyparkdistrict.org/wp-content/uploads/2025/01/Untitled-Facebook-Post-1.jpg
END:VEVENT
END:VCALENDAR