BEGIN:VCALENDAR
VERSION:2.0
PRODID:-//Tinley Park-Park District - ECPv6.15.20//NONSGML v1.0//EN
CALSCALE:GREGORIAN
METHOD:PUBLISH
X-WR-CALNAME:Tinley Park-Park District
X-ORIGINAL-URL:https://tinleyparkdistrict.org
X-WR-CALDESC:Events for Tinley Park-Park District
REFRESH-INTERVAL;VALUE=DURATION:PT1H
X-Robots-Tag:noindex
X-PUBLISHED-TTL:PT1H
BEGIN:VTIMEZONE
TZID:UTC
BEGIN:STANDARD
TZOFFSETFROM:+0000
TZOFFSETTO:+0000
TZNAME:UTC
DTSTART:20240101T000000
END:STANDARD
END:VTIMEZONE
BEGIN:VEVENT
DTSTART;TZID=UTC:20250715T100000
DTEND;TZID=UTC:20250715T210000
DTSTAMP:20260419T073537
CREATED:20240509T013810Z
LAST-MODIFIED:20250521T172511Z
UID:10000193-1752573600-1752613200@tinleyparkdistrict.org
SUMMARY:Tinley Junction: All Star Spectacular
DESCRIPTION:Two bonus tokens with all token specials\, $1.00 tokens for all paid golfers. Concession Helmet Sundae specials!
URL:https://tinleyparkdistrict.org/event/tinley-junction-all-star-spectacular-2/
LOCATION:Tinley Junction Mini Golf and Batting Cages\, 16801 S 80th Ave\, Tinley Park\, IL\, 60477\, United States
CATEGORIES:Tinley Junction Mini Golf
END:VEVENT
END:VCALENDAR