BEGIN:VCALENDAR
VERSION:2.0
PRODID:-//Tinley Park-Park District - ECPv6.15.20//NONSGML v1.0//EN
CALSCALE:GREGORIAN
METHOD:PUBLISH
X-WR-CALNAME:Tinley Park-Park District
X-ORIGINAL-URL:https://tinleyparkdistrict.org
X-WR-CALDESC:Events for Tinley Park-Park District
REFRESH-INTERVAL;VALUE=DURATION:PT1H
X-Robots-Tag:noindex
X-PUBLISHED-TTL:PT1H
BEGIN:VTIMEZONE
TZID:America/Chicago
BEGIN:DAYLIGHT
TZOFFSETFROM:-0600
TZOFFSETTO:-0500
TZNAME:CDT
DTSTART:20240310T080000
END:DAYLIGHT
BEGIN:STANDARD
TZOFFSETFROM:-0500
TZOFFSETTO:-0600
TZNAME:CST
DTSTART:20241103T070000
END:STANDARD
BEGIN:DAYLIGHT
TZOFFSETFROM:-0600
TZOFFSETTO:-0500
TZNAME:CDT
DTSTART:20250309T080000
END:DAYLIGHT
BEGIN:STANDARD
TZOFFSETFROM:-0500
TZOFFSETTO:-0600
TZNAME:CST
DTSTART:20251102T070000
END:STANDARD
BEGIN:DAYLIGHT
TZOFFSETFROM:-0600
TZOFFSETTO:-0500
TZNAME:CDT
DTSTART:20260308T080000
END:DAYLIGHT
BEGIN:STANDARD
TZOFFSETFROM:-0500
TZOFFSETTO:-0600
TZNAME:CST
DTSTART:20261101T070000
END:STANDARD
END:VTIMEZONE
BEGIN:VEVENT
DTSTART;TZID=America/Chicago:20251212T180000
DTEND;TZID=America/Chicago:20251212T200000
DTSTAMP:20260419T120818
CREATED:20250828T162910Z
LAST-MODIFIED:20250925T002143Z
UID:10000535-1765562400-1765569600@tinleyparkdistrict.org
SUMMARY:Teen Theater Presents: Sherlock Holmes
DESCRIPTION:Here’s a highly entertaining adaptation of Sir Arthur Conan Doyle’s famed detective story\, combining mystery\, romance\, action\, danger and laughter. Alice Faulkner has letters written by a dead girl that will cause grave international problems. Moriarty wants those letters; so does Holmes. The game’s afoot! Not before the Professor’s gang has London in its grip. Only young Holmes understands the true objective the professor has in mind (too sinister to reveal here)\, and he’s willing to put his own life on the line to stop it. \nFriday\, December 12th: 6pm\nSaturday\, December 13th: 6pm\nSunday\, December 14th: 1pm \nTickets are $10 and go on sale December 1st\, 2025 \nDirected by Christina Halleran\nLocation: Tinley Park Performing Arts Center
URL:https://tinleyparkdistrict.org/event/teen-theater-presents-sherlock-holmes/2025-12-12/
LOCATION:Tinley Park Performing Arts\, 16801 S 80th Ave\, Tinley Park\, IL\, 60477\, United States
CATEGORIES:Performing Arts Center
ATTACH;FMTTYPE=image/png:https://tinleyparkdistrict.org/wp-content/uploads/2025/08/Image-11.png
END:VEVENT
BEGIN:VEVENT
DTSTART;TZID=America/Chicago:20251213T180000
DTEND;TZID=America/Chicago:20251213T200000
DTSTAMP:20260419T120818
CREATED:20250828T162910Z
LAST-MODIFIED:20250925T002143Z
UID:10000536-1765648800-1765656000@tinleyparkdistrict.org
SUMMARY:Teen Theater Presents: Sherlock Holmes
DESCRIPTION:Here’s a highly entertaining adaptation of Sir Arthur Conan Doyle’s famed detective story\, combining mystery\, romance\, action\, danger and laughter. Alice Faulkner has letters written by a dead girl that will cause grave international problems. Moriarty wants those letters; so does Holmes. The game’s afoot! Not before the Professor’s gang has London in its grip. Only young Holmes understands the true objective the professor has in mind (too sinister to reveal here)\, and he’s willing to put his own life on the line to stop it. \nFriday\, December 12th: 6pm\nSaturday\, December 13th: 6pm\nSunday\, December 14th: 1pm \nTickets are $10 and go on sale December 1st\, 2025 \nDirected by Christina Halleran\nLocation: Tinley Park Performing Arts Center
URL:https://tinleyparkdistrict.org/event/teen-theater-presents-sherlock-holmes/2025-12-13/
LOCATION:Tinley Park Performing Arts\, 16801 S 80th Ave\, Tinley Park\, IL\, 60477\, United States
CATEGORIES:Performing Arts Center
ATTACH;FMTTYPE=image/png:https://tinleyparkdistrict.org/wp-content/uploads/2025/08/Image-11.png
END:VEVENT
BEGIN:VEVENT
DTSTART;TZID=America/Chicago:20251214T130000
DTEND;TZID=America/Chicago:20251214T150000
DTSTAMP:20260419T120818
CREATED:20250828T162910Z
LAST-MODIFIED:20250925T002143Z
UID:10000537-1765717200-1765724400@tinleyparkdistrict.org
SUMMARY:Teen Theater Presents: Sherlock Holmes
DESCRIPTION:Here’s a highly entertaining adaptation of Sir Arthur Conan Doyle’s famed detective story\, combining mystery\, romance\, action\, danger and laughter. Alice Faulkner has letters written by a dead girl that will cause grave international problems. Moriarty wants those letters; so does Holmes. The game’s afoot! Not before the Professor’s gang has London in its grip. Only young Holmes understands the true objective the professor has in mind (too sinister to reveal here)\, and he’s willing to put his own life on the line to stop it. \nFriday\, December 12th: 6pm\nSaturday\, December 13th: 6pm\nSunday\, December 14th: 1pm \nTickets are $10 and go on sale December 1st\, 2025 \nDirected by Christina Halleran\nLocation: Tinley Park Performing Arts Center
URL:https://tinleyparkdistrict.org/event/teen-theater-presents-sherlock-holmes/2025-12-14/
LOCATION:Tinley Park Performing Arts\, 16801 S 80th Ave\, Tinley Park\, IL\, 60477\, United States
CATEGORIES:Performing Arts Center
ATTACH;FMTTYPE=image/png:https://tinleyparkdistrict.org/wp-content/uploads/2025/08/Image-11.png
END:VEVENT
BEGIN:VEVENT
DTSTART;TZID=America/Chicago:20251214T180000
DTEND;TZID=America/Chicago:20251214T200000
DTSTAMP:20260419T120818
CREATED:20251208T165150Z
LAST-MODIFIED:20251208T165858Z
UID:10000574-1765735200-1765742400@tinleyparkdistrict.org
SUMMARY:Main Stage Improv Christmas Spectacular: Santa Claus & Effect
DESCRIPTION:Get ready to laugh your way into the holidays with Main Stage Improv at their one-and-only Christmas Spectacular: Santa Claus and Effect Show  Join us at the Tinley Park Performing Arts Center on Sunday\, December 14th from 6:00–8:00 pm for a fast-paced\, festive night of comedy perfect for the whole family!\n\n\n\nTickets are $14 and available online or at the door. We open thirty minutes before our showtime. Don’t miss this merry night of improv fun
URL:https://tinleyparkdistrict.org/event/main-stage-improv-christmas-spectacular-santa-claus-effect/
LOCATION:Tinley Park Performing Arts\, 16801 S 80th Ave\, Tinley Park\, IL\, 60477\, United States
CATEGORIES:Performing Arts Center
ATTACH;FMTTYPE=image/jpeg:https://tinleyparkdistrict.org/wp-content/uploads/2025/12/MS-Improv-Adult-Flyer-2025.jpg
END:VEVENT
BEGIN:VEVENT
DTSTART;TZID=America/Chicago:20251219T180000
DTEND;TZID=America/Chicago:20251219T200000
DTSTAMP:20260419T120818
CREATED:20250828T163243Z
LAST-MODIFIED:20251202T221917Z
UID:10000566-1766167200-1766174400@tinleyparkdistrict.org
SUMMARY:Holiday Theater presents: Miracle on 34th St.
DESCRIPTION:This is a tale that we want to believe in\, that creates a world we seem to desperately desire\, free of the blatant commercialism that surrounds us\, where love and decency and generosity of spirit are their own rewards. What we want Christmas to be all about\, really. \nTickets are $10 and go on sale December 8th\, 2025 \nFriday\, December 19th: 6pm\nSaturday\, December 20th: 1pm\nSunday\, December 21st: 1pm \nDirected by Christina Halleran\nLocation: Tinley Park Performing Arts Center
URL:https://tinleyparkdistrict.org/event/holiday-theater-presents-miracle-on-34th-st/2025-12-19/
LOCATION:Tinley Park Performing Arts\, 16801 S 80th Ave\, Tinley Park\, IL\, 60477\, United States
CATEGORIES:Performing Arts Center
ATTACH;FMTTYPE=image/png:https://tinleyparkdistrict.org/wp-content/uploads/2025/08/Image-10.png
END:VEVENT
BEGIN:VEVENT
DTSTART;TZID=America/Chicago:20251220T130000
DTEND;TZID=America/Chicago:20251220T150000
DTSTAMP:20260419T120818
CREATED:20250828T163243Z
LAST-MODIFIED:20251202T221917Z
UID:10000567-1766235600-1766242800@tinleyparkdistrict.org
SUMMARY:Holiday Theater presents: Miracle on 34th St.
DESCRIPTION:This is a tale that we want to believe in\, that creates a world we seem to desperately desire\, free of the blatant commercialism that surrounds us\, where love and decency and generosity of spirit are their own rewards. What we want Christmas to be all about\, really. \nTickets are $10 and go on sale December 8th\, 2025 \nFriday\, December 19th: 6pm\nSaturday\, December 20th: 1pm\nSunday\, December 21st: 1pm \nDirected by Christina Halleran\nLocation: Tinley Park Performing Arts Center
URL:https://tinleyparkdistrict.org/event/holiday-theater-presents-miracle-on-34th-st/2025-12-20/
LOCATION:Tinley Park Performing Arts\, 16801 S 80th Ave\, Tinley Park\, IL\, 60477\, United States
CATEGORIES:Performing Arts Center
ATTACH;FMTTYPE=image/png:https://tinleyparkdistrict.org/wp-content/uploads/2025/08/Image-10.png
END:VEVENT
BEGIN:VEVENT
DTSTART;TZID=America/Chicago:20251221T130000
DTEND;TZID=America/Chicago:20251221T150000
DTSTAMP:20260419T120818
CREATED:20250828T163243Z
LAST-MODIFIED:20251202T221917Z
UID:10000568-1766322000-1766329200@tinleyparkdistrict.org
SUMMARY:Holiday Theater presents: Miracle on 34th St.
DESCRIPTION:This is a tale that we want to believe in\, that creates a world we seem to desperately desire\, free of the blatant commercialism that surrounds us\, where love and decency and generosity of spirit are their own rewards. What we want Christmas to be all about\, really. \nTickets are $10 and go on sale December 8th\, 2025 \nFriday\, December 19th: 6pm\nSaturday\, December 20th: 1pm\nSunday\, December 21st: 1pm \nDirected by Christina Halleran\nLocation: Tinley Park Performing Arts Center
URL:https://tinleyparkdistrict.org/event/holiday-theater-presents-miracle-on-34th-st/2025-12-21/
LOCATION:Tinley Park Performing Arts\, 16801 S 80th Ave\, Tinley Park\, IL\, 60477\, United States
CATEGORIES:Performing Arts Center
ATTACH;FMTTYPE=image/png:https://tinleyparkdistrict.org/wp-content/uploads/2025/08/Image-10.png
END:VEVENT
END:VCALENDAR