BEGIN:VCALENDAR
VERSION:2.0
PRODID:-//Tinley Park-Park District - ECPv6.15.20//NONSGML v1.0//EN
CALSCALE:GREGORIAN
METHOD:PUBLISH
X-ORIGINAL-URL:https://tinleyparkdistrict.org
X-WR-CALDESC:Events for Tinley Park-Park District
REFRESH-INTERVAL;VALUE=DURATION:PT1H
X-Robots-Tag:noindex
X-PUBLISHED-TTL:PT1H
BEGIN:VTIMEZONE
TZID:America/Chicago
BEGIN:DAYLIGHT
TZOFFSETFROM:-0600
TZOFFSETTO:-0500
TZNAME:CDT
DTSTART:20240310T080000
END:DAYLIGHT
BEGIN:STANDARD
TZOFFSETFROM:-0500
TZOFFSETTO:-0600
TZNAME:CST
DTSTART:20241103T070000
END:STANDARD
BEGIN:DAYLIGHT
TZOFFSETFROM:-0600
TZOFFSETTO:-0500
TZNAME:CDT
DTSTART:20250309T080000
END:DAYLIGHT
BEGIN:STANDARD
TZOFFSETFROM:-0500
TZOFFSETTO:-0600
TZNAME:CST
DTSTART:20251102T070000
END:STANDARD
BEGIN:DAYLIGHT
TZOFFSETFROM:-0600
TZOFFSETTO:-0500
TZNAME:CDT
DTSTART:20260308T080000
END:DAYLIGHT
BEGIN:STANDARD
TZOFFSETFROM:-0500
TZOFFSETTO:-0600
TZNAME:CST
DTSTART:20261101T070000
END:STANDARD
END:VTIMEZONE
BEGIN:VEVENT
DTSTART;TZID=America/Chicago:20251017T190000
DTEND;TZID=America/Chicago:20251017T210000
DTSTAMP:20260421T085702
CREATED:20250828T164706Z
LAST-MODIFIED:20251017T185521Z
UID:10000547-1760727600-1760734800@tinleyparkdistrict.org
SUMMARY:Community Theater Presents: Our Town
DESCRIPTION:Our Town presents the small town of Grover’s Corners in three acts: “Daily Life\,” “Love and Marriage” and “Death and Eternity.” Narrated by a stage manager and performed with minimal props and sets\, the play depicts the simple daily lives of the Webb and Gibbs families as their children fall in love\, marry and eventually – in one of the most famous scenes in American theater — die. Thornton Wilder’s final word on how he wanted his play performed is an invaluable addition to the American stage and to the libraries of theatre lovers internationally. \nTickets are $10 and go on sale September 12th\, 2025 \nThursday\, October 16 @7pm \nFriday\, October 17 @ 7pm \nSaturday\, October 18 @ 7pm \nSunday\, October 19 @ 2pm \nDirected by The Playhouse Theater\nLocation: Tinley Park Performing Arts Center
URL:https://tinleyparkdistrict.org/event/community-theater-presents-our-town/2025-10-17/
LOCATION:Tinley Park Performing Arts\, 16801 S 80th Ave\, Tinley Park\, IL\, 60477\, United States
CATEGORIES:Performing Arts Center
ATTACH;FMTTYPE=image/jpeg:https://tinleyparkdistrict.org/wp-content/uploads/2025/08/Our-Town-Flyer_1-scaled.jpeg
END:VEVENT
END:VCALENDAR