BEGIN:VCALENDAR
VERSION:2.0
PRODID:-//Tinley Park-Park District - ECPv6.15.20//NONSGML v1.0//EN
CALSCALE:GREGORIAN
METHOD:PUBLISH
X-WR-CALNAME:Tinley Park-Park District
X-ORIGINAL-URL:https://tinleyparkdistrict.org
X-WR-CALDESC:Events for Tinley Park-Park District
REFRESH-INTERVAL;VALUE=DURATION:PT1H
X-Robots-Tag:noindex
X-PUBLISHED-TTL:PT1H
BEGIN:VTIMEZONE
TZID:America/Chicago
BEGIN:DAYLIGHT
TZOFFSETFROM:-0600
TZOFFSETTO:-0500
TZNAME:CDT
DTSTART:20240310T080000
END:DAYLIGHT
BEGIN:STANDARD
TZOFFSETFROM:-0500
TZOFFSETTO:-0600
TZNAME:CST
DTSTART:20241103T070000
END:STANDARD
BEGIN:DAYLIGHT
TZOFFSETFROM:-0600
TZOFFSETTO:-0500
TZNAME:CDT
DTSTART:20250309T080000
END:DAYLIGHT
BEGIN:STANDARD
TZOFFSETFROM:-0500
TZOFFSETTO:-0600
TZNAME:CST
DTSTART:20251102T070000
END:STANDARD
BEGIN:DAYLIGHT
TZOFFSETFROM:-0600
TZOFFSETTO:-0500
TZNAME:CDT
DTSTART:20260308T080000
END:DAYLIGHT
BEGIN:STANDARD
TZOFFSETFROM:-0500
TZOFFSETTO:-0600
TZNAME:CST
DTSTART:20261101T070000
END:STANDARD
END:VTIMEZONE
BEGIN:VEVENT
DTSTART;TZID=America/Chicago:20251122T180000
DTEND;TZID=America/Chicago:20251122T200000
DTSTAMP:20260419T133608
CREATED:20250828T162604Z
LAST-MODIFIED:20250924T235944Z
UID:10000533-1763834400-1763841600@tinleyparkdistrict.org
SUMMARY:Children's Theater Presents: The XYZ Files
DESCRIPTION:Forget The X Files. What you really want to know about are The XYZ Files. These top secret FBI papers are devoted to unexplained phenomena-UFOs\, out of body experiences\, aliens\, and unidentified goop. Agent Scallop and her somewhat dim-witted partner\, Agent Mildew\, must solve the mystery of disappearing shopping malls or quit government service. If this happens\, the XYZ Files will be closed for good. Although both agents are conscientious\, they never seem able to produce evidence of anything. The truth is the malls have been swallowed by gigantic sinkholes. But that’s only part of it. Down below is a mad botanist who has created an enormous ant farm. With the help of the mysterious Jellybean Person\, our agents devote themselves to defeating the botanist\, who now believes he’s the world’s most brilliant ant\, and finding the Mulch City Mall\, which just dropped from sight in front of unsuspecting teenagers! \nTickets are $10 and go on sale November 10th\, 2025 \nFriday\, November 21 – 6pm\nSaturday\, November 22 – 6pm\nSunday\, November 23 – 3pm \nDirected by Cassandra Balaskas\nLocation: Tinley Park Performing Arts Center
URL:https://tinleyparkdistrict.org/event/childrens-theater-presents-the-xyz-files/2025-11-22/
LOCATION:Tinley Park Performing Arts\, 16801 S 80th Ave\, Tinley Park\, IL\, 60477\, United States
CATEGORIES:Performing Arts Center
ATTACH;FMTTYPE=image/png:https://tinleyparkdistrict.org/wp-content/uploads/2025/08/Image-9.png
END:VEVENT
END:VCALENDAR