BEGIN:VCALENDAR
VERSION:2.0
PRODID:-//Tinley Park-Park District - ECPv6.15.20//NONSGML v1.0//EN
CALSCALE:GREGORIAN
METHOD:PUBLISH
X-ORIGINAL-URL:https://tinleyparkdistrict.org
X-WR-CALDESC:Events for Tinley Park-Park District
REFRESH-INTERVAL;VALUE=DURATION:PT1H
X-Robots-Tag:noindex
X-PUBLISHED-TTL:PT1H
BEGIN:VTIMEZONE
TZID:America/Chicago
BEGIN:DAYLIGHT
TZOFFSETFROM:-0600
TZOFFSETTO:-0500
TZNAME:CDT
DTSTART:20250309T080000
END:DAYLIGHT
BEGIN:STANDARD
TZOFFSETFROM:-0500
TZOFFSETTO:-0600
TZNAME:CST
DTSTART:20251102T070000
END:STANDARD
BEGIN:DAYLIGHT
TZOFFSETFROM:-0600
TZOFFSETTO:-0500
TZNAME:CDT
DTSTART:20260308T080000
END:DAYLIGHT
BEGIN:STANDARD
TZOFFSETFROM:-0500
TZOFFSETTO:-0600
TZNAME:CST
DTSTART:20261101T070000
END:STANDARD
BEGIN:DAYLIGHT
TZOFFSETFROM:-0600
TZOFFSETTO:-0500
TZNAME:CDT
DTSTART:20270314T080000
END:DAYLIGHT
BEGIN:STANDARD
TZOFFSETFROM:-0500
TZOFFSETTO:-0600
TZNAME:CST
DTSTART:20271107T070000
END:STANDARD
END:VTIMEZONE
BEGIN:VEVENT
DTSTART;TZID=America/Chicago:20260326T190000
DTEND;TZID=America/Chicago:20260326T210000
DTSTAMP:20260423T100823
CREATED:20260326T155959Z
LAST-MODIFIED:20260326T155959Z
UID:10000601-1774551600-1774558800@tinleyparkdistrict.org
SUMMARY:Community Theater presents: Steel Magnolias
DESCRIPTION:Come out to the Tinley Park Performing Arts Center to see The Playhouse Theater‘s production of Steel Magnolias \n\n\n\nThis show has TWO wonderful casts! The “Blush” cast will be performing March 26th and March 28th at 7:00pm\, and the “Bashful” cast will be performing March 27th at 7:00pm and March 29th at 3:00pm!\n\n\n\nGet tickets for the full run here: https://bit.ly/49nQEYU
URL:https://tinleyparkdistrict.org/event/community-theater-presents-steel-magnolias/2026-03-26/
LOCATION:Tinley Park Performing Arts\, 16801 S 80th Ave\, Tinley Park\, IL\, 60477\, United States
CATEGORIES:Performing Arts Center
ATTACH;FMTTYPE=image/jpeg:https://tinleyparkdistrict.org/wp-content/uploads/2026/03/IMG_0906.jpg
END:VEVENT
END:VCALENDAR