BEGIN:VCALENDAR
VERSION:2.0
PRODID:-//Tinley Park-Park District - ECPv6.15.20//NONSGML v1.0//EN
CALSCALE:GREGORIAN
METHOD:PUBLISH
X-ORIGINAL-URL:https://tinleyparkdistrict.org
X-WR-CALDESC:Events for Tinley Park-Park District
REFRESH-INTERVAL;VALUE=DURATION:PT1H
X-Robots-Tag:noindex
X-PUBLISHED-TTL:PT1H
BEGIN:VTIMEZONE
TZID:America/Chicago
BEGIN:DAYLIGHT
TZOFFSETFROM:-0600
TZOFFSETTO:-0500
TZNAME:CDT
DTSTART:20250309T080000
END:DAYLIGHT
BEGIN:STANDARD
TZOFFSETFROM:-0500
TZOFFSETTO:-0600
TZNAME:CST
DTSTART:20251102T070000
END:STANDARD
BEGIN:DAYLIGHT
TZOFFSETFROM:-0600
TZOFFSETTO:-0500
TZNAME:CDT
DTSTART:20260308T080000
END:DAYLIGHT
BEGIN:STANDARD
TZOFFSETFROM:-0500
TZOFFSETTO:-0600
TZNAME:CST
DTSTART:20261101T070000
END:STANDARD
BEGIN:DAYLIGHT
TZOFFSETFROM:-0600
TZOFFSETTO:-0500
TZNAME:CDT
DTSTART:20270314T080000
END:DAYLIGHT
BEGIN:STANDARD
TZOFFSETFROM:-0500
TZOFFSETTO:-0600
TZNAME:CST
DTSTART:20271107T070000
END:STANDARD
END:VTIMEZONE
BEGIN:VEVENT
DTSTART;VALUE=DATE:20260301
DTEND;VALUE=DATE:20260318
DTSTAMP:20260421T102102
CREATED:20251030T185249Z
LAST-MODIFIED:20260226T174254Z
UID:10000561-1772323200-1773791999@tinleyparkdistrict.org
SUMMARY:Lucky Charms Scavenger Hunt
DESCRIPTION:Find the Lucky Charms before they lose their magic! Lucky the Leprechaun has visited some Tinley Park – Park District Facilities and Parks and set up a scavenger hunt just for you! Wear your green and have fun finding the Lucky Charms! Activities include a self-paced scavenger hunt with clues to find the Lucky Charms. Each child receives a “Bag O’ Gold” and a 4 leaf clover to decorate at home with a completed scavenger hunt form! Pick up your forms at the Bettenhausen Recreation Center after March 1st or download from the website. Good luck! \nDates: Mar 1-17\nAge: 3-8
URL:https://tinleyparkdistrict.org/event/lucky-charms-scavenger-hunt-2/
LOCATION:IL
CATEGORIES:Special Event
ATTACH;FMTTYPE=image/jpeg:https://tinleyparkdistrict.org/wp-content/uploads/2025/12/Lucky-Charms-2026-REACH.jpg
END:VEVENT
BEGIN:VEVENT
DTSTART;TZID=America/Chicago:20260301T080000
DTEND;TZID=America/Chicago:20260301T100000
DTSTAMP:20260421T102102
CREATED:20251029T162343Z
LAST-MODIFIED:20260219T194710Z
UID:10000554-1772352000-1772359200@tinleyparkdistrict.org
SUMMARY:Running o' the Green 8K
DESCRIPTION:Pre-registration closes Feb 25th at 3 pm. Registration reopens at 7 am on race day. Packet pick-up is held on Sat. Feb 28 from 8 am to 2 pm at the Recreation Center. Awards can be picked up from the Recreation Center beginning Monday\, March 2rd after 12pm if not received on day of. \nTime: 8am Race Start\nFee: $22 without shirt / $30 with shirt (Pre-registration) / $45 with or without shirt\, if available (Race Day)
URL:https://tinleyparkdistrict.org/event/running-o-the-green-8k-3/
LOCATION:Tony Bettenhausen Recreation Center\, 8125 W 171st St\, Tinley Park\, 60477\, United States
CATEGORIES:Special Event
ATTACH;FMTTYPE=image/jpeg:https://tinleyparkdistrict.org/wp-content/uploads/2025/10/2026-ROG-REACH.jpg
END:VEVENT
END:VCALENDAR