BEGIN:VCALENDAR
VERSION:2.0
PRODID:-//Tinley Park-Park District - ECPv6.15.20//NONSGML v1.0//EN
CALSCALE:GREGORIAN
METHOD:PUBLISH
X-ORIGINAL-URL:https://tinleyparkdistrict.org
X-WR-CALDESC:Events for Tinley Park-Park District
REFRESH-INTERVAL;VALUE=DURATION:PT1H
X-Robots-Tag:noindex
X-PUBLISHED-TTL:PT1H
BEGIN:VTIMEZONE
TZID:America/Chicago
BEGIN:DAYLIGHT
TZOFFSETFROM:-0600
TZOFFSETTO:-0500
TZNAME:CDT
DTSTART:20230312T080000
END:DAYLIGHT
BEGIN:STANDARD
TZOFFSETFROM:-0500
TZOFFSETTO:-0600
TZNAME:CST
DTSTART:20231105T070000
END:STANDARD
BEGIN:DAYLIGHT
TZOFFSETFROM:-0600
TZOFFSETTO:-0500
TZNAME:CDT
DTSTART:20240310T080000
END:DAYLIGHT
BEGIN:STANDARD
TZOFFSETFROM:-0500
TZOFFSETTO:-0600
TZNAME:CST
DTSTART:20241103T070000
END:STANDARD
BEGIN:DAYLIGHT
TZOFFSETFROM:-0600
TZOFFSETTO:-0500
TZNAME:CDT
DTSTART:20250309T080000
END:DAYLIGHT
BEGIN:STANDARD
TZOFFSETFROM:-0500
TZOFFSETTO:-0600
TZNAME:CST
DTSTART:20251102T070000
END:STANDARD
BEGIN:DAYLIGHT
TZOFFSETFROM:-0600
TZOFFSETTO:-0500
TZNAME:CDT
DTSTART:20260308T080000
END:DAYLIGHT
BEGIN:STANDARD
TZOFFSETFROM:-0500
TZOFFSETTO:-0600
TZNAME:CST
DTSTART:20261101T070000
END:STANDARD
BEGIN:DAYLIGHT
TZOFFSETFROM:-0600
TZOFFSETTO:-0500
TZNAME:CDT
DTSTART:20270314T080000
END:DAYLIGHT
BEGIN:STANDARD
TZOFFSETFROM:-0500
TZOFFSETTO:-0600
TZNAME:CST
DTSTART:20271107T070000
END:STANDARD
END:VTIMEZONE
BEGIN:VTIMEZONE
TZID:UTC
BEGIN:STANDARD
TZOFFSETFROM:+0000
TZOFFSETTO:+0000
TZNAME:UTC
DTSTART:20230101T000000
END:STANDARD
END:VTIMEZONE
BEGIN:VEVENT
DTSTART;TZID=America/Chicago:20260329T150000
DTEND;TZID=America/Chicago:20260329T170000
DTSTAMP:20260424T120529
CREATED:20251207T180104Z
LAST-MODIFIED:20260325T160807Z
UID:10000572-1774796400-1774803600@tinleyparkdistrict.org
SUMMARY:SOLD OUT Egg-Stravaganza Swim
DESCRIPTION:This event is SOLD OUT! \nJoin us for the Tinley Fitness Egg-Stravaganza Swim! Dive for eggs\, win prizes and enjoy all the egg-cellent Easter-themed pool events with friends\, family and the Easter Bunny. \nActivity #112113-B\nFees: $15 Child / $5 Adult \n 
URL:https://tinleyparkdistrict.org/event/egg-stravaganza-swim-3/
LOCATION:Tinley Fitness Pool\, 8125 W. 171st Street\, Tinley Park\, IL\, 60477\, United States
CATEGORIES:Special Event,Tinley Fitness
ATTACH;FMTTYPE=image/jpeg:https://tinleyparkdistrict.org/wp-content/uploads/2025/12/Eggstravaganza-Swim-REACH.jpg
END:VEVENT
BEGIN:VEVENT
DTSTART;TZID=America/Chicago:20251220T093000
DTEND;TZID=America/Chicago:20251220T110000
DTSTAMP:20260424T120529
CREATED:20250924T165105Z
LAST-MODIFIED:20251209T170457Z
UID:10000545-1766223000-1766228400@tinleyparkdistrict.org
SUMMARY:Zumbathon
DESCRIPTION:Celebrate the season with dance! Join Gina and move to your favorite Christmas and holiday songs. No dance experience needed! All attendees will be entered into a raffle. Prizes will be awarded during our rest break. Feel free to dress in your most festive wear!
URL:https://tinleyparkdistrict.org/event/zumbathon/
LOCATION:Tinley Fitness\, 8125 W 171st Street\, Tinley Park\, IL\, 60477\, United States
CATEGORIES:Tinley Fitness
ATTACH;FMTTYPE=image/jpeg:https://tinleyparkdistrict.org/wp-content/uploads/2025/09/Zumbathon-2025-REACH.jpg
END:VEVENT
BEGIN:VEVENT
DTSTART;TZID=America/Chicago:20251207T150000
DTEND;TZID=America/Chicago:20251207T170000
DTSTAMP:20260424T120529
CREATED:20250714T222006Z
LAST-MODIFIED:20250908T212752Z
UID:10000522-1765119600-1765126800@tinleyparkdistrict.org
SUMMARY:Summer in December
DESCRIPTION:Grab your Hawaiian shirts and beach bag because Tinley Fitness is celebrating Summer in December! Enjoy bits of summer with family and friends at Tinley Fitness Pool!\nPre-Registration is required!\nFees: $8 R / $18 NR\nActivity #312113-B
URL:https://tinleyparkdistrict.org/event/summer-in-december-2/
LOCATION:Tinley Fitness Pool\, 8125 W. 171st Street\, Tinley Park\, IL\, 60477\, United States
CATEGORIES:Special Event,Tinley Fitness
ATTACH;FMTTYPE=image/jpeg:https://tinleyparkdistrict.org/wp-content/uploads/2025/07/Summer-in-December-2025-REACH.jpg
END:VEVENT
BEGIN:VEVENT
DTSTART;TZID=America/Chicago:20251026T150000
DTEND;TZID=America/Chicago:20251026T170000
DTSTAMP:20260424T120529
CREATED:20250711T192712Z
LAST-MODIFIED:20251005T181705Z
UID:10000508-1761490800-1761498000@tinleyparkdistrict.org
SUMMARY:Pumpkin Plunge
DESCRIPTION:Splashing around to spooky tunes\, get ready for some pumpkin picking\, treats\, games and more! Pre-Registration is required. When black cat’s prowl and pumpkins gleam\, may luck be yours on Halloween. Come join us at Tinley Fitness for a spooky afternoon of plunging into our pumpkin patch pool. Splashing around to spooky tunes\, get ready for some  pumpkin picking\, treats\, games and more! \nPre-registration is required. \nActivity # 312113-A \nFees: $8 R / $18 NR
URL:https://tinleyparkdistrict.org/event/pumpkin-plunge-2/
LOCATION:Tinley Fitness Pool\, 8125 W. 171st Street\, Tinley Park\, IL\, 60477\, United States
CATEGORIES:Special Event,Tinley Fitness
ATTACH;FMTTYPE=image/jpeg:https://tinleyparkdistrict.org/wp-content/uploads/2025/07/Pumpkin-Plunge-REACH.jpg
END:VEVENT
BEGIN:VEVENT
DTSTART;TZID=America/Chicago:20241208T150000
DTEND;TZID=America/Chicago:20241208T170000
DTSTAMP:20260424T120529
CREATED:20240919T153714Z
LAST-MODIFIED:20240919T153714Z
UID:10000339-1733670000-1733677200@tinleyparkdistrict.org
SUMMARY:Summer in December
DESCRIPTION:Grab your Hawaiian shirts and beach bag because Tinley Fitness is celebrating Summer in December! Enjoy bits of summer with family and friends at Tinley Fitness Pool!\nPre-Registration is required!\nFees: $5 R / $10 NR\nActivity #312113-B
URL:https://tinleyparkdistrict.org/event/summer-in-december/
LOCATION:Tinley Fitness Pool\, 8125 W. 171st Street\, Tinley Park\, IL\, 60477\, United States
CATEGORIES:Special Event,Tinley Fitness
ATTACH;FMTTYPE=image/jpeg:https://tinleyparkdistrict.org/wp-content/uploads/2024/09/Summer-in-December_REACH-FB-Event.jpg
END:VEVENT
BEGIN:VEVENT
DTSTART;VALUE=DATE:20240704
DTEND;VALUE=DATE:20240705
DTSTAMP:20260424T120529
CREATED:20240411T230840Z
LAST-MODIFIED:20240411T230840Z
UID:10000100-1720051200-1720137599@tinleyparkdistrict.org
SUMMARY:Closed Bettenhausen Rec Center & Tinley Fitness
DESCRIPTION:
URL:https://tinleyparkdistrict.org/event/closed-bettenhausen-rec-center-tinley-fitness/
LOCATION:IL
CATEGORIES:General,Tinley Fitness,Tony Bettenhausen Recreation
END:VEVENT
BEGIN:VEVENT
DTSTART;TZID=UTC:20240324T140000
DTEND;TZID=UTC:20240324T160000
DTSTAMP:20260424T120529
CREATED:20240209T231105Z
LAST-MODIFIED:20240305T153335Z
UID:10000036-1711288800-1711296000@tinleyparkdistrict.org
SUMMARY:Egg-Stravaganza Swim
DESCRIPTION:March 24\, 2024 2:00 pm – 4:00 pm \n\n\n\nJoin us for the Tinley Fitness Egg-Stravaganza Swim! Dive for eggs\, win prizes and enjoy all the egg-cellent Easter-themed pool events with friends\, family and the Easter Bunny. \nLocation: Tinley Fitness\nFees: Adults $5 / Children $20 \nACTIVITY         DATES         DAY         TIME        AGE\n112113-B          Mar 24          Sun          2-4p          All
URL:https://tinleyparkdistrict.org/event/egg-stravaganza-swim-2/
LOCATION:Tinley Fitness Pool\, 8125 W. 171st Street\, Tinley Park\, IL\, 60477\, United States
CATEGORIES:Tinley Fitness
END:VEVENT
BEGIN:VEVENT
DTSTART;TZID=UTC:20240218T150000
DTEND;TZID=UTC:20240218T170000
DTSTAMP:20260424T120529
CREATED:20240209T204806Z
LAST-MODIFIED:20240212T230706Z
UID:10000024-1708268400-1708275600@tinleyparkdistrict.org
SUMMARY:Sweetheart Swim
DESCRIPTION:February 18\, 2024 3:00 pm – 5:00 pm \n\n\nTinley Fitness welcomes our members and their sweethearts for some family fun! Share the love with your little Valentine’s as you splash away the day! Members of Tinley Fitness can bring up to three guests.\n\nLocation: Tinley Fitness Pool\nActivity: 112113A\nFee: $3 TF Member / $8 non-member\nAge: All
URL:https://tinleyparkdistrict.org/event/sweetheart-swim-2/
LOCATION:White Water Canyon 0V7A8341_1
CATEGORIES:Tinley Fitness
END:VEVENT
END:VCALENDAR